BEGIN:VCALENDAR
VERSION:2.0
PRODID:https://www.gfe.it
X-PUBLISHED-TTL:P1W
BEGIN:VEVENT
UID:69ec0d1d0845a
DTSTART;VALUE=DATE:20260420
SEQUENCE:0
TRANSP:OPAQUE
DTEND;VALUE=DATE:20260422
URL:https://www.gfe.it/en/exhibitions/join-gf-at-pharmap-2026
LOCATION:Amsterdam\, the Netherlands
SUMMARY:Join GF at PHARMAP 2026
CLASS:PUBLIC
X-ALT-DESC;FMTTYPE=text/html:<p>GF will be present at PHARMAP in Amsterdam\
 , the Netherlands\, from the 20th to the 21st of April.<br>We are honoured
  to be sponsor of such a great event of networking and knowledge exchange.
 </p><p>At the event\, Alberto Cirri (GF C.E.O.) will share his insights on
  \"<strong>How AI vision inspection drives compliant\, efficient\, and err
 or‑free pharmaceutical packaging</strong>\".</p><p>We look forward to me
 eting you\, there!<br>&nbsp\;</p>\, coesia_editor_manager
X-MICROSOFT-CDO-ALLDAYEVENT:TRUE
DTSTAMP:20260425T023853Z
END:VEVENT
END:VCALENDAR